BEGIN:VCALENDAR
VERSION:2.0
PRODID:-//Bestattungsinstitut Rose - ECPv6.15.20//NONSGML v1.0//EN
CALSCALE:GREGORIAN
METHOD:PUBLISH
X-WR-CALNAME:Bestattungsinstitut Rose
X-ORIGINAL-URL:https://www.bestattungsinstitut-rose.de
X-WR-CALDESC:Veranstaltungen für Bestattungsinstitut Rose
REFRESH-INTERVAL;VALUE=DURATION:PT1H
X-Robots-Tag:noindex
X-PUBLISHED-TTL:PT1H
BEGIN:VTIMEZONE
TZID:Europe/Berlin
BEGIN:DAYLIGHT
TZOFFSETFROM:+0100
TZOFFSETTO:+0200
TZNAME:CEST
DTSTART:20250330T010000
END:DAYLIGHT
BEGIN:STANDARD
TZOFFSETFROM:+0200
TZOFFSETTO:+0100
TZNAME:CET
DTSTART:20251026T010000
END:STANDARD
BEGIN:DAYLIGHT
TZOFFSETFROM:+0100
TZOFFSETTO:+0200
TZNAME:CEST
DTSTART:20260329T010000
END:DAYLIGHT
BEGIN:STANDARD
TZOFFSETFROM:+0200
TZOFFSETTO:+0100
TZNAME:CET
DTSTART:20261025T010000
END:STANDARD
BEGIN:DAYLIGHT
TZOFFSETFROM:+0100
TZOFFSETTO:+0200
TZNAME:CEST
DTSTART:20270328T010000
END:DAYLIGHT
BEGIN:STANDARD
TZOFFSETFROM:+0200
TZOFFSETTO:+0100
TZNAME:CET
DTSTART:20271031T010000
END:STANDARD
END:VTIMEZONE
BEGIN:VEVENT
DTSTART;TZID=Europe/Berlin:20260424T093000
DTEND;TZID=Europe/Berlin:20260424T103000
DTSTAMP:20260424T131442
CREATED:20260420T045649Z
LAST-MODIFIED:20260421T083904Z
UID:99409-1777023000-1777026600@www.bestattungsinstitut-rose.de
SUMMARY:Krötz Johann
DESCRIPTION:Johann Krötz\n* 22.01.1940 † 09.04.2026 \nRosenkranz am Donnerstag\, den 23. April 2026 um 19:00 Uhr. Trauergottesdienst am Freitag\, den 24. April 2026 um 09:30 Uhr\,\njeweils in der Pfarrkirche St. Johann (C) in Peißenberg\, anschließend Urnenbeisetzung.
URL:https://www.bestattungsinstitut-rose.de/bestattungstermin/kroetz-johann/
LOCATION:Pfarrkirche St. Johann\, Peißenberg\, Hauptstr. 16\, Peißenberg\, 82380
CATEGORIES:Bestattungstermine,Trauerfeier,Urnenbeisetzung
ATTACH;FMTTYPE=image/jpeg:https://www.bestattungsinstitut-rose.de/wp-content/uploads/2026/04/Kroetz-Johann-scaled-e1775815152744.jpg
END:VEVENT
BEGIN:VEVENT
DTSTART;TZID=Europe/Berlin:20260428T133000
DTEND;TZID=Europe/Berlin:20260428T143000
DTSTAMP:20260424T131442
CREATED:20260418T053721Z
LAST-MODIFIED:20260421T084100Z
UID:99431-1777383000-1777386600@www.bestattungsinstitut-rose.de
SUMMARY:Lentner Otto Josef
DESCRIPTION:Otto Josef Lentner\n* 04. Mai 1935 † 09. April 2026 \nTrauergottesdienst am Dienstag\, den 28. April 2026 um 13.30 Uhr in der Pfarrkirche St. Johann (C) in Peißenberg\nmit anschließender Urnenbeisetzung auf dem Friedhof.
URL:https://www.bestattungsinstitut-rose.de/bestattungstermin/lentner-otto-josef/
LOCATION:Pfarrkirche St. Johann\, Peißenberg\, Hauptstr. 16\, Peißenberg\, 82380
CATEGORIES:Bestattungstermine,Trauerfeier,Urnenbeisetzung
ATTACH;FMTTYPE=image/jpeg:https://www.bestattungsinstitut-rose.de/wp-content/uploads/2026/04/Lentner-Otto-Josef-e1776325280586.jpg
END:VEVENT
BEGIN:VEVENT
DTSTART;TZID=Europe/Berlin:20260428T140000
DTEND;TZID=Europe/Berlin:20260428T150000
DTSTAMP:20260424T131442
CREATED:20260423T102621Z
LAST-MODIFIED:20260423T102621Z
UID:100310-1777384800-1777388400@www.bestattungsinstitut-rose.de
SUMMARY:Krönauer Sabine
DESCRIPTION:Sabine Krönauer \n* 05.08.1970 † 21.04.2026 \nRosenkranz am Sonntag\, den 26. April 2026\, um 18.00 Uhr in der Pfarrkirche „Auferstehung unseres Herrn Jesus Christus“\nin Hohenpeißenberg\, Trauerfeier am Dienstag\, den 28. April 2026\, um 14.00 Uhr in der Wallfahrtskirche  auf dem Hohen Peißenberg\nmit anschließender Beerdigung.
URL:https://www.bestattungsinstitut-rose.de/bestattungstermin/kroenauer-sabine/
LOCATION:Wallfahrtskirche auf dem Hohenpeißenberg\, Matthäus-Günther-Platz 2\, Hohenpeißenberg\, Bayern\, 82383
CATEGORIES:Bestattungstermine,Messe,Trauerfeier
ATTACH;FMTTYPE=image/jpeg:https://www.bestattungsinstitut-rose.de/wp-content/uploads/2026/04/Kroenauer-Sabine-bearbeitet-e1776939939522.jpg
END:VEVENT
END:VCALENDAR