BEGIN:VCALENDAR
VERSION:2.0
PRODID:-//Bestattungsinstitut Rose - ECPv6.15.20//NONSGML v1.0//EN
CALSCALE:GREGORIAN
METHOD:PUBLISH
X-WR-CALNAME:Bestattungsinstitut Rose
X-ORIGINAL-URL:https://www.bestattungsinstitut-rose.de
X-WR-CALDESC:Veranstaltungen für Bestattungsinstitut Rose
REFRESH-INTERVAL;VALUE=DURATION:PT1H
X-Robots-Tag:noindex
X-PUBLISHED-TTL:PT1H
BEGIN:VTIMEZONE
TZID:Europe/Berlin
BEGIN:DAYLIGHT
TZOFFSETFROM:+0100
TZOFFSETTO:+0200
TZNAME:CEST
DTSTART:20250330T010000
END:DAYLIGHT
BEGIN:STANDARD
TZOFFSETFROM:+0200
TZOFFSETTO:+0100
TZNAME:CET
DTSTART:20251026T010000
END:STANDARD
BEGIN:DAYLIGHT
TZOFFSETFROM:+0100
TZOFFSETTO:+0200
TZNAME:CEST
DTSTART:20260329T010000
END:DAYLIGHT
BEGIN:STANDARD
TZOFFSETFROM:+0200
TZOFFSETTO:+0100
TZNAME:CET
DTSTART:20261025T010000
END:STANDARD
BEGIN:DAYLIGHT
TZOFFSETFROM:+0100
TZOFFSETTO:+0200
TZNAME:CEST
DTSTART:20270328T010000
END:DAYLIGHT
BEGIN:STANDARD
TZOFFSETFROM:+0200
TZOFFSETTO:+0100
TZNAME:CET
DTSTART:20271031T010000
END:STANDARD
END:VTIMEZONE
BEGIN:VEVENT
DTSTART;TZID=Europe/Berlin:20260309T140000
DTEND;TZID=Europe/Berlin:20260309T150000
DTSTAMP:20260420T101736
CREATED:20260307T060525Z
LAST-MODIFIED:20260312T100806Z
UID:98792-1773064800-1773068400@www.bestattungsinstitut-rose.de
SUMMARY:Müller-Seiband Christine
DESCRIPTION:Christine Müller-Seiband \n* 29.10.1948 † 18.02.2026\nTrauergottesdienst am Montag\, den 9. März 2026\, um 14.00 Uhr in der Ev.- Luth. Dreifaltigkeitskirche in Schongau\nmit anschließender Urnenbeisetzung im Stadtfriedhof.
URL:https://www.bestattungsinstitut-rose.de/bestattungstermin/mueller-seiband-christine/
LOCATION:Ev. Dreifaltigkeitskirche\, Schongau\, Blumenstraße 5\, Schongau\, Bayern\, 86956
CATEGORIES:Bestattungstermine,Trauerfeier,Urnenbeisetzung
END:VEVENT
END:VCALENDAR